BEGIN:VCALENDAR
VERSION:2.0
PRODID:-//Thunder Road Aberdeen - ECPv4.6.1//NONSGML v1.0//EN
CALSCALE:GREGORIAN
METHOD:PUBLISH
X-WR-CALNAME:Thunder Road Aberdeen
X-ORIGINAL-URL:https://thunderroadaberdeen.com
X-WR-CALDESC:Events for Thunder Road Aberdeen
BEGIN:VEVENT
DTSTART;TZID=UTC-6:20260601T120000
DTEND;TZID=UTC-6:20260601T210000
DTSTAMP:20260421T090053
CREATED:20260225T191806Z
LAST-MODIFIED:20260225T191806Z
UID:6385-1780315200-1780347600@thunderroadaberdeen.com
SUMMARY:Monday\, June 1\, 2026
DESCRIPTION:
URL:https://thunderroadaberdeen.com/hour/monday-june-1-2026/
END:VEVENT
END:VCALENDAR